BEGIN:VCALENDAR
VERSION:2.0
PRODID:-//Istituto Leone Dehon - ECPv5.4.0//NONSGML v1.0//EN
CALSCALE:GREGORIAN
METHOD:PUBLISH
X-WR-CALNAME:Istituto Leone Dehon
X-ORIGINAL-URL:https://www.istitutoleonedehon.it
X-WR-CALDESC:Eventi per Istituto Leone Dehon
BEGIN:VTIMEZONE
TZID:Europe/Rome
BEGIN:DAYLIGHT
TZOFFSETFROM:+0100
TZOFFSETTO:+0200
TZNAME:CEST
DTSTART:20170326T010000
END:DAYLIGHT
BEGIN:STANDARD
TZOFFSETFROM:+0200
TZOFFSETTO:+0100
TZNAME:CET
DTSTART:20171029T010000
END:STANDARD
END:VTIMEZONE
BEGIN:VEVENT
DTSTART;TZID=Europe/Rome:20170121T090000
DTEND;TZID=Europe/Rome:20170121T170000
DTSTAMP:20260426T061419
CREATED:20170121T080057Z
LAST-MODIFIED:20180125T171329Z
UID:2517-1484989200-1485018000@www.istitutoleonedehon.it
SUMMARY:Scuola aperta
DESCRIPTION:Potrete visitare la scuola\, assistere alle lezioni e alle attività nei laboratori\, conoscere la realtà didattica e formativa dell’Istituto. Gli insegnanti presenteranno il progetto educativo\, gli alunni le loro attività. In mattinata lezione sulla motivazione alla scelta. \nLiceo Internazionale Quadriennale \nVi invitiamo il giorno 21 gennaio p.v alle ore 11\,30 presso la sede della nostra scuola\, per illustrarVi le novità legislative in merito e presentarVi la conseguente proposta formativa che intendiamo realizzare nell’a.s. 2017/2018. \nSarà presente all’incontro il Prof. Giuseppe Colosio\, già Direttore dell’Ufficio Scolastico Regionale e autorevole riferimento per l’innovazione quadriennale in Italia.
URL:https://www.istitutoleonedehon.it/evento/scuola-aperta/
LOCATION:Istituto Leone Dehon\, Via Appiani 1\, Monza\, 20900\, Italia
CATEGORIES:eventi passati
ATTACH;FMTTYPE=image/jpeg:https://www.istitutoleonedehon.it/wp-content/uploads/revslider/home-1-slider/slider-img-2.jpg
ORGANIZER;CN="Istituto%20Leone%20Dehon":MAILTO:info@istitutoleonedehon.it
END:VEVENT
END:VCALENDAR